BEGIN:VCALENDAR
VERSION:2.0
PRODID:-//Laughs PDX - ECPv6.15.12.2//NONSGML v1.0//EN
CALSCALE:GREGORIAN
METHOD:PUBLISH
X-WR-CALNAME:Laughs PDX
X-ORIGINAL-URL:https://www.laughspdx.com
X-WR-CALDESC:Events for Laughs PDX
REFRESH-INTERVAL;VALUE=DURATION:PT1H
X-Robots-Tag:noindex
X-PUBLISHED-TTL:PT1H
BEGIN:VTIMEZONE
TZID:America/Los_Angeles
BEGIN:DAYLIGHT
TZOFFSETFROM:-0800
TZOFFSETTO:-0700
TZNAME:PDT
DTSTART:20250309T100000
END:DAYLIGHT
BEGIN:STANDARD
TZOFFSETFROM:-0700
TZOFFSETTO:-0800
TZNAME:PST
DTSTART:20251102T090000
END:STANDARD
BEGIN:DAYLIGHT
TZOFFSETFROM:-0800
TZOFFSETTO:-0700
TZNAME:PDT
DTSTART:20260308T100000
END:DAYLIGHT
BEGIN:STANDARD
TZOFFSETFROM:-0700
TZOFFSETTO:-0800
TZNAME:PST
DTSTART:20261101T090000
END:STANDARD
BEGIN:DAYLIGHT
TZOFFSETFROM:-0800
TZOFFSETTO:-0700
TZNAME:PDT
DTSTART:20270314T100000
END:DAYLIGHT
BEGIN:STANDARD
TZOFFSETFROM:-0700
TZOFFSETTO:-0800
TZNAME:PST
DTSTART:20271107T090000
END:STANDARD
BEGIN:DAYLIGHT
TZOFFSETFROM:-0800
TZOFFSETTO:-0700
TZNAME:PDT
DTSTART:20280312T100000
END:DAYLIGHT
BEGIN:STANDARD
TZOFFSETFROM:-0700
TZOFFSETTO:-0800
TZNAME:PST
DTSTART:20281105T090000
END:STANDARD
BEGIN:DAYLIGHT
TZOFFSETFROM:-0800
TZOFFSETTO:-0700
TZNAME:PDT
DTSTART:20290311T100000
END:DAYLIGHT
BEGIN:STANDARD
TZOFFSETFROM:-0700
TZOFFSETTO:-0800
TZNAME:PST
DTSTART:20291104T090000
END:STANDARD
END:VTIMEZONE
BEGIN:VEVENT
DTSTART;TZID=America/Los_Angeles:20260424T220000
DTEND;TZID=America/Los_Angeles:20260424T235900
DTSTAMP:20260424T014718
CREATED:20250506T231043Z
LAST-MODIFIED:20251003T190022Z
UID:10032753-1777068000-1777075140@www.laughspdx.com
SUMMARY:Roast City Comedy Battle
DESCRIPTION:Portland comedians go head to head in the roast battle of the ages while a panel of judges decide their fate.\nHosted by Cam Strong.
URL:https://www.laughspdx.com/event/roast-city-comedy-battle/2026-04-24/
LOCATION:Funhouse Lounge\, 2432 SE 11th Ave.\, Portland\, OR\, United States
CATEGORIES:Roasts,Stand Up Shows
ATTACH;FMTTYPE=image/jpeg:https://www.laughspdx.com/wp-content/uploads/2025/05/RoastCity.jpeg
GEO:45.5052416;-122.6543575
X-APPLE-STRUCTURED-LOCATION;VALUE=URI;X-ADDRESS=Funhouse Lounge 2432 SE 11th Ave. Portland OR United States;X-APPLE-RADIUS=500;X-TITLE=2432 SE 11th Ave.:geo:-122.6543575,45.5052416
END:VEVENT
BEGIN:VEVENT
DTSTART;TZID=America/Los_Angeles:20260522T220000
DTEND;TZID=America/Los_Angeles:20260522T235900
DTSTAMP:20260424T014718
CREATED:20250506T231043Z
LAST-MODIFIED:20251003T190022Z
UID:10032754-1779487200-1779494340@www.laughspdx.com
SUMMARY:Roast City Comedy Battle
DESCRIPTION:Portland comedians go head to head in the roast battle of the ages while a panel of judges decide their fate.\nHosted by Cam Strong.
URL:https://www.laughspdx.com/event/roast-city-comedy-battle/2026-05-22/
LOCATION:Funhouse Lounge\, 2432 SE 11th Ave.\, Portland\, OR\, United States
CATEGORIES:Roasts,Stand Up Shows
ATTACH;FMTTYPE=image/jpeg:https://www.laughspdx.com/wp-content/uploads/2025/05/RoastCity.jpeg
GEO:45.5052416;-122.6543575
X-APPLE-STRUCTURED-LOCATION;VALUE=URI;X-ADDRESS=Funhouse Lounge 2432 SE 11th Ave. Portland OR United States;X-APPLE-RADIUS=500;X-TITLE=2432 SE 11th Ave.:geo:-122.6543575,45.5052416
END:VEVENT
BEGIN:VEVENT
DTSTART;TZID=America/Los_Angeles:20260626T220000
DTEND;TZID=America/Los_Angeles:20260626T235900
DTSTAMP:20260424T014718
CREATED:20250506T231043Z
LAST-MODIFIED:20251003T190022Z
UID:10032755-1782511200-1782518340@www.laughspdx.com
SUMMARY:Roast City Comedy Battle
DESCRIPTION:Portland comedians go head to head in the roast battle of the ages while a panel of judges decide their fate.\nHosted by Cam Strong.
URL:https://www.laughspdx.com/event/roast-city-comedy-battle/2026-06-26/
LOCATION:Funhouse Lounge\, 2432 SE 11th Ave.\, Portland\, OR\, United States
CATEGORIES:Roasts,Stand Up Shows
ATTACH;FMTTYPE=image/jpeg:https://www.laughspdx.com/wp-content/uploads/2025/05/RoastCity.jpeg
GEO:45.5052416;-122.6543575
X-APPLE-STRUCTURED-LOCATION;VALUE=URI;X-ADDRESS=Funhouse Lounge 2432 SE 11th Ave. Portland OR United States;X-APPLE-RADIUS=500;X-TITLE=2432 SE 11th Ave.:geo:-122.6543575,45.5052416
END:VEVENT
BEGIN:VEVENT
DTSTART;TZID=America/Los_Angeles:20260724T220000
DTEND;TZID=America/Los_Angeles:20260724T235900
DTSTAMP:20260424T014718
CREATED:20250506T231043Z
LAST-MODIFIED:20251003T190022Z
UID:10032756-1784930400-1784937540@www.laughspdx.com
SUMMARY:Roast City Comedy Battle
DESCRIPTION:Portland comedians go head to head in the roast battle of the ages while a panel of judges decide their fate.\nHosted by Cam Strong.
URL:https://www.laughspdx.com/event/roast-city-comedy-battle/2026-07-24/
LOCATION:Funhouse Lounge\, 2432 SE 11th Ave.\, Portland\, OR\, United States
CATEGORIES:Roasts,Stand Up Shows
ATTACH;FMTTYPE=image/jpeg:https://www.laughspdx.com/wp-content/uploads/2025/05/RoastCity.jpeg
GEO:45.5052416;-122.6543575
X-APPLE-STRUCTURED-LOCATION;VALUE=URI;X-ADDRESS=Funhouse Lounge 2432 SE 11th Ave. Portland OR United States;X-APPLE-RADIUS=500;X-TITLE=2432 SE 11th Ave.:geo:-122.6543575,45.5052416
END:VEVENT
BEGIN:VEVENT
DTSTART;TZID=America/Los_Angeles:20260828T220000
DTEND;TZID=America/Los_Angeles:20260828T235900
DTSTAMP:20260424T014718
CREATED:20250506T231043Z
LAST-MODIFIED:20251003T190022Z
UID:10032757-1787954400-1787961540@www.laughspdx.com
SUMMARY:Roast City Comedy Battle
DESCRIPTION:Portland comedians go head to head in the roast battle of the ages while a panel of judges decide their fate.\nHosted by Cam Strong.
URL:https://www.laughspdx.com/event/roast-city-comedy-battle/2026-08-28/
LOCATION:Funhouse Lounge\, 2432 SE 11th Ave.\, Portland\, OR\, United States
CATEGORIES:Roasts,Stand Up Shows
ATTACH;FMTTYPE=image/jpeg:https://www.laughspdx.com/wp-content/uploads/2025/05/RoastCity.jpeg
GEO:45.5052416;-122.6543575
X-APPLE-STRUCTURED-LOCATION;VALUE=URI;X-ADDRESS=Funhouse Lounge 2432 SE 11th Ave. Portland OR United States;X-APPLE-RADIUS=500;X-TITLE=2432 SE 11th Ave.:geo:-122.6543575,45.5052416
END:VEVENT
BEGIN:VEVENT
DTSTART;TZID=America/Los_Angeles:20260925T220000
DTEND;TZID=America/Los_Angeles:20260925T235900
DTSTAMP:20260424T014718
CREATED:20250506T231043Z
LAST-MODIFIED:20251003T190022Z
UID:10032758-1790373600-1790380740@www.laughspdx.com
SUMMARY:Roast City Comedy Battle
DESCRIPTION:Portland comedians go head to head in the roast battle of the ages while a panel of judges decide their fate.\nHosted by Cam Strong.
URL:https://www.laughspdx.com/event/roast-city-comedy-battle/2026-09-25/
LOCATION:Funhouse Lounge\, 2432 SE 11th Ave.\, Portland\, OR\, United States
CATEGORIES:Roasts,Stand Up Shows
ATTACH;FMTTYPE=image/jpeg:https://www.laughspdx.com/wp-content/uploads/2025/05/RoastCity.jpeg
GEO:45.5052416;-122.6543575
X-APPLE-STRUCTURED-LOCATION;VALUE=URI;X-ADDRESS=Funhouse Lounge 2432 SE 11th Ave. Portland OR United States;X-APPLE-RADIUS=500;X-TITLE=2432 SE 11th Ave.:geo:-122.6543575,45.5052416
END:VEVENT
BEGIN:VEVENT
DTSTART;TZID=America/Los_Angeles:20261023T220000
DTEND;TZID=America/Los_Angeles:20261023T235900
DTSTAMP:20260424T014718
CREATED:20250506T231043Z
LAST-MODIFIED:20251003T190022Z
UID:10032759-1792792800-1792799940@www.laughspdx.com
SUMMARY:Roast City Comedy Battle
DESCRIPTION:Portland comedians go head to head in the roast battle of the ages while a panel of judges decide their fate.\nHosted by Cam Strong.
URL:https://www.laughspdx.com/event/roast-city-comedy-battle/2026-10-23/
LOCATION:Funhouse Lounge\, 2432 SE 11th Ave.\, Portland\, OR\, United States
CATEGORIES:Roasts,Stand Up Shows
ATTACH;FMTTYPE=image/jpeg:https://www.laughspdx.com/wp-content/uploads/2025/05/RoastCity.jpeg
GEO:45.5052416;-122.6543575
X-APPLE-STRUCTURED-LOCATION;VALUE=URI;X-ADDRESS=Funhouse Lounge 2432 SE 11th Ave. Portland OR United States;X-APPLE-RADIUS=500;X-TITLE=2432 SE 11th Ave.:geo:-122.6543575,45.5052416
END:VEVENT
BEGIN:VEVENT
DTSTART;TZID=America/Los_Angeles:20261127T220000
DTEND;TZID=America/Los_Angeles:20261127T235900
DTSTAMP:20260424T014718
CREATED:20250506T231043Z
LAST-MODIFIED:20251003T190022Z
UID:10032760-1795816800-1795823940@www.laughspdx.com
SUMMARY:Roast City Comedy Battle
DESCRIPTION:Portland comedians go head to head in the roast battle of the ages while a panel of judges decide their fate.\nHosted by Cam Strong.
URL:https://www.laughspdx.com/event/roast-city-comedy-battle/2026-11-27/
LOCATION:Funhouse Lounge\, 2432 SE 11th Ave.\, Portland\, OR\, United States
CATEGORIES:Roasts,Stand Up Shows
ATTACH;FMTTYPE=image/jpeg:https://www.laughspdx.com/wp-content/uploads/2025/05/RoastCity.jpeg
GEO:45.5052416;-122.6543575
X-APPLE-STRUCTURED-LOCATION;VALUE=URI;X-ADDRESS=Funhouse Lounge 2432 SE 11th Ave. Portland OR United States;X-APPLE-RADIUS=500;X-TITLE=2432 SE 11th Ave.:geo:-122.6543575,45.5052416
END:VEVENT
BEGIN:VEVENT
DTSTART;TZID=America/Los_Angeles:20261225T220000
DTEND;TZID=America/Los_Angeles:20261225T235900
DTSTAMP:20260424T014718
CREATED:20250506T231043Z
LAST-MODIFIED:20251003T190022Z
UID:10032761-1798236000-1798243140@www.laughspdx.com
SUMMARY:Roast City Comedy Battle
DESCRIPTION:Portland comedians go head to head in the roast battle of the ages while a panel of judges decide their fate.\nHosted by Cam Strong.
URL:https://www.laughspdx.com/event/roast-city-comedy-battle/2026-12-25/
LOCATION:Funhouse Lounge\, 2432 SE 11th Ave.\, Portland\, OR\, United States
CATEGORIES:Roasts,Stand Up Shows
ATTACH;FMTTYPE=image/jpeg:https://www.laughspdx.com/wp-content/uploads/2025/05/RoastCity.jpeg
GEO:45.5052416;-122.6543575
X-APPLE-STRUCTURED-LOCATION;VALUE=URI;X-ADDRESS=Funhouse Lounge 2432 SE 11th Ave. Portland OR United States;X-APPLE-RADIUS=500;X-TITLE=2432 SE 11th Ave.:geo:-122.6543575,45.5052416
END:VEVENT
BEGIN:VEVENT
DTSTART;TZID=America/Los_Angeles:20270122T220000
DTEND;TZID=America/Los_Angeles:20270122T235900
DTSTAMP:20260424T014718
CREATED:20250506T231043Z
LAST-MODIFIED:20251003T190022Z
UID:10032762-1800655200-1800662340@www.laughspdx.com
SUMMARY:Roast City Comedy Battle
DESCRIPTION:Portland comedians go head to head in the roast battle of the ages while a panel of judges decide their fate.\nHosted by Cam Strong.
URL:https://www.laughspdx.com/event/roast-city-comedy-battle/2027-01-22/
LOCATION:Funhouse Lounge\, 2432 SE 11th Ave.\, Portland\, OR\, United States
CATEGORIES:Roasts,Stand Up Shows
ATTACH;FMTTYPE=image/jpeg:https://www.laughspdx.com/wp-content/uploads/2025/05/RoastCity.jpeg
GEO:45.5052416;-122.6543575
X-APPLE-STRUCTURED-LOCATION;VALUE=URI;X-ADDRESS=Funhouse Lounge 2432 SE 11th Ave. Portland OR United States;X-APPLE-RADIUS=500;X-TITLE=2432 SE 11th Ave.:geo:-122.6543575,45.5052416
END:VEVENT
BEGIN:VEVENT
DTSTART;TZID=America/Los_Angeles:20270226T220000
DTEND;TZID=America/Los_Angeles:20270226T235900
DTSTAMP:20260424T014718
CREATED:20250506T231043Z
LAST-MODIFIED:20251003T190022Z
UID:10032763-1803679200-1803686340@www.laughspdx.com
SUMMARY:Roast City Comedy Battle
DESCRIPTION:Portland comedians go head to head in the roast battle of the ages while a panel of judges decide their fate.\nHosted by Cam Strong.
URL:https://www.laughspdx.com/event/roast-city-comedy-battle/2027-02-26/
LOCATION:Funhouse Lounge\, 2432 SE 11th Ave.\, Portland\, OR\, United States
CATEGORIES:Roasts,Stand Up Shows
ATTACH;FMTTYPE=image/jpeg:https://www.laughspdx.com/wp-content/uploads/2025/05/RoastCity.jpeg
GEO:45.5052416;-122.6543575
X-APPLE-STRUCTURED-LOCATION;VALUE=URI;X-ADDRESS=Funhouse Lounge 2432 SE 11th Ave. Portland OR United States;X-APPLE-RADIUS=500;X-TITLE=2432 SE 11th Ave.:geo:-122.6543575,45.5052416
END:VEVENT
BEGIN:VEVENT
DTSTART;TZID=America/Los_Angeles:20270326T220000
DTEND;TZID=America/Los_Angeles:20270326T235900
DTSTAMP:20260424T014718
CREATED:20250506T231043Z
LAST-MODIFIED:20251003T190022Z
UID:10032764-1806098400-1806105540@www.laughspdx.com
SUMMARY:Roast City Comedy Battle
DESCRIPTION:Portland comedians go head to head in the roast battle of the ages while a panel of judges decide their fate.\nHosted by Cam Strong.
URL:https://www.laughspdx.com/event/roast-city-comedy-battle/2027-03-26/
LOCATION:Funhouse Lounge\, 2432 SE 11th Ave.\, Portland\, OR\, United States
CATEGORIES:Roasts,Stand Up Shows
ATTACH;FMTTYPE=image/jpeg:https://www.laughspdx.com/wp-content/uploads/2025/05/RoastCity.jpeg
GEO:45.5052416;-122.6543575
X-APPLE-STRUCTURED-LOCATION;VALUE=URI;X-ADDRESS=Funhouse Lounge 2432 SE 11th Ave. Portland OR United States;X-APPLE-RADIUS=500;X-TITLE=2432 SE 11th Ave.:geo:-122.6543575,45.5052416
END:VEVENT
BEGIN:VEVENT
DTSTART;TZID=America/Los_Angeles:20270423T220000
DTEND;TZID=America/Los_Angeles:20270423T235900
DTSTAMP:20260424T014718
CREATED:20250506T231043Z
LAST-MODIFIED:20251003T190022Z
UID:10032765-1808517600-1808524740@www.laughspdx.com
SUMMARY:Roast City Comedy Battle
DESCRIPTION:Portland comedians go head to head in the roast battle of the ages while a panel of judges decide their fate.\nHosted by Cam Strong.
URL:https://www.laughspdx.com/event/roast-city-comedy-battle/2027-04-23/
LOCATION:Funhouse Lounge\, 2432 SE 11th Ave.\, Portland\, OR\, United States
CATEGORIES:Roasts,Stand Up Shows
ATTACH;FMTTYPE=image/jpeg:https://www.laughspdx.com/wp-content/uploads/2025/05/RoastCity.jpeg
GEO:45.5052416;-122.6543575
X-APPLE-STRUCTURED-LOCATION;VALUE=URI;X-ADDRESS=Funhouse Lounge 2432 SE 11th Ave. Portland OR United States;X-APPLE-RADIUS=500;X-TITLE=2432 SE 11th Ave.:geo:-122.6543575,45.5052416
END:VEVENT
BEGIN:VEVENT
DTSTART;TZID=America/Los_Angeles:20270528T220000
DTEND;TZID=America/Los_Angeles:20270528T235900
DTSTAMP:20260424T014718
CREATED:20250506T231043Z
LAST-MODIFIED:20251003T190022Z
UID:10032766-1811541600-1811548740@www.laughspdx.com
SUMMARY:Roast City Comedy Battle
DESCRIPTION:Portland comedians go head to head in the roast battle of the ages while a panel of judges decide their fate.\nHosted by Cam Strong.
URL:https://www.laughspdx.com/event/roast-city-comedy-battle/2027-05-28/
LOCATION:Funhouse Lounge\, 2432 SE 11th Ave.\, Portland\, OR\, United States
CATEGORIES:Roasts,Stand Up Shows
ATTACH;FMTTYPE=image/jpeg:https://www.laughspdx.com/wp-content/uploads/2025/05/RoastCity.jpeg
GEO:45.5052416;-122.6543575
X-APPLE-STRUCTURED-LOCATION;VALUE=URI;X-ADDRESS=Funhouse Lounge 2432 SE 11th Ave. Portland OR United States;X-APPLE-RADIUS=500;X-TITLE=2432 SE 11th Ave.:geo:-122.6543575,45.5052416
END:VEVENT
BEGIN:VEVENT
DTSTART;TZID=America/Los_Angeles:20270625T220000
DTEND;TZID=America/Los_Angeles:20270625T235900
DTSTAMP:20260424T014718
CREATED:20250506T231043Z
LAST-MODIFIED:20251003T190022Z
UID:10032767-1813960800-1813967940@www.laughspdx.com
SUMMARY:Roast City Comedy Battle
DESCRIPTION:Portland comedians go head to head in the roast battle of the ages while a panel of judges decide their fate.\nHosted by Cam Strong.
URL:https://www.laughspdx.com/event/roast-city-comedy-battle/2027-06-25/
LOCATION:Funhouse Lounge\, 2432 SE 11th Ave.\, Portland\, OR\, United States
CATEGORIES:Roasts,Stand Up Shows
ATTACH;FMTTYPE=image/jpeg:https://www.laughspdx.com/wp-content/uploads/2025/05/RoastCity.jpeg
GEO:45.5052416;-122.6543575
X-APPLE-STRUCTURED-LOCATION;VALUE=URI;X-ADDRESS=Funhouse Lounge 2432 SE 11th Ave. Portland OR United States;X-APPLE-RADIUS=500;X-TITLE=2432 SE 11th Ave.:geo:-122.6543575,45.5052416
END:VEVENT
BEGIN:VEVENT
DTSTART;TZID=America/Los_Angeles:20270723T220000
DTEND;TZID=America/Los_Angeles:20270723T235900
DTSTAMP:20260424T014718
CREATED:20250506T231043Z
LAST-MODIFIED:20251003T190022Z
UID:10032768-1816380000-1816387140@www.laughspdx.com
SUMMARY:Roast City Comedy Battle
DESCRIPTION:Portland comedians go head to head in the roast battle of the ages while a panel of judges decide their fate.\nHosted by Cam Strong.
URL:https://www.laughspdx.com/event/roast-city-comedy-battle/2027-07-23/
LOCATION:Funhouse Lounge\, 2432 SE 11th Ave.\, Portland\, OR\, United States
CATEGORIES:Roasts,Stand Up Shows
ATTACH;FMTTYPE=image/jpeg:https://www.laughspdx.com/wp-content/uploads/2025/05/RoastCity.jpeg
GEO:45.5052416;-122.6543575
X-APPLE-STRUCTURED-LOCATION;VALUE=URI;X-ADDRESS=Funhouse Lounge 2432 SE 11th Ave. Portland OR United States;X-APPLE-RADIUS=500;X-TITLE=2432 SE 11th Ave.:geo:-122.6543575,45.5052416
END:VEVENT
BEGIN:VEVENT
DTSTART;TZID=America/Los_Angeles:20270827T220000
DTEND;TZID=America/Los_Angeles:20270827T235900
DTSTAMP:20260424T014718
CREATED:20250506T231043Z
LAST-MODIFIED:20251003T190022Z
UID:10032769-1819404000-1819411140@www.laughspdx.com
SUMMARY:Roast City Comedy Battle
DESCRIPTION:Portland comedians go head to head in the roast battle of the ages while a panel of judges decide their fate.\nHosted by Cam Strong.
URL:https://www.laughspdx.com/event/roast-city-comedy-battle/2027-08-27/
LOCATION:Funhouse Lounge\, 2432 SE 11th Ave.\, Portland\, OR\, United States
CATEGORIES:Roasts,Stand Up Shows
ATTACH;FMTTYPE=image/jpeg:https://www.laughspdx.com/wp-content/uploads/2025/05/RoastCity.jpeg
GEO:45.5052416;-122.6543575
X-APPLE-STRUCTURED-LOCATION;VALUE=URI;X-ADDRESS=Funhouse Lounge 2432 SE 11th Ave. Portland OR United States;X-APPLE-RADIUS=500;X-TITLE=2432 SE 11th Ave.:geo:-122.6543575,45.5052416
END:VEVENT
BEGIN:VEVENT
DTSTART;TZID=America/Los_Angeles:20270924T220000
DTEND;TZID=America/Los_Angeles:20270924T235900
DTSTAMP:20260424T014718
CREATED:20250506T231043Z
LAST-MODIFIED:20251003T190022Z
UID:10032770-1821823200-1821830340@www.laughspdx.com
SUMMARY:Roast City Comedy Battle
DESCRIPTION:Portland comedians go head to head in the roast battle of the ages while a panel of judges decide their fate.\nHosted by Cam Strong.
URL:https://www.laughspdx.com/event/roast-city-comedy-battle/2027-09-24/
LOCATION:Funhouse Lounge\, 2432 SE 11th Ave.\, Portland\, OR\, United States
CATEGORIES:Roasts,Stand Up Shows
ATTACH;FMTTYPE=image/jpeg:https://www.laughspdx.com/wp-content/uploads/2025/05/RoastCity.jpeg
GEO:45.5052416;-122.6543575
X-APPLE-STRUCTURED-LOCATION;VALUE=URI;X-ADDRESS=Funhouse Lounge 2432 SE 11th Ave. Portland OR United States;X-APPLE-RADIUS=500;X-TITLE=2432 SE 11th Ave.:geo:-122.6543575,45.5052416
END:VEVENT
BEGIN:VEVENT
DTSTART;TZID=America/Los_Angeles:20271022T220000
DTEND;TZID=America/Los_Angeles:20271022T235900
DTSTAMP:20260424T014718
CREATED:20250506T231043Z
LAST-MODIFIED:20251003T190022Z
UID:10032771-1824242400-1824249540@www.laughspdx.com
SUMMARY:Roast City Comedy Battle
DESCRIPTION:Portland comedians go head to head in the roast battle of the ages while a panel of judges decide their fate.\nHosted by Cam Strong.
URL:https://www.laughspdx.com/event/roast-city-comedy-battle/2027-10-22/
LOCATION:Funhouse Lounge\, 2432 SE 11th Ave.\, Portland\, OR\, United States
CATEGORIES:Roasts,Stand Up Shows
ATTACH;FMTTYPE=image/jpeg:https://www.laughspdx.com/wp-content/uploads/2025/05/RoastCity.jpeg
GEO:45.5052416;-122.6543575
X-APPLE-STRUCTURED-LOCATION;VALUE=URI;X-ADDRESS=Funhouse Lounge 2432 SE 11th Ave. Portland OR United States;X-APPLE-RADIUS=500;X-TITLE=2432 SE 11th Ave.:geo:-122.6543575,45.5052416
END:VEVENT
BEGIN:VEVENT
DTSTART;TZID=America/Los_Angeles:20271126T220000
DTEND;TZID=America/Los_Angeles:20271126T235900
DTSTAMP:20260424T014718
CREATED:20250506T231043Z
LAST-MODIFIED:20251003T190022Z
UID:10032772-1827266400-1827273540@www.laughspdx.com
SUMMARY:Roast City Comedy Battle
DESCRIPTION:Portland comedians go head to head in the roast battle of the ages while a panel of judges decide their fate.\nHosted by Cam Strong.
URL:https://www.laughspdx.com/event/roast-city-comedy-battle/2027-11-26/
LOCATION:Funhouse Lounge\, 2432 SE 11th Ave.\, Portland\, OR\, United States
CATEGORIES:Roasts,Stand Up Shows
ATTACH;FMTTYPE=image/jpeg:https://www.laughspdx.com/wp-content/uploads/2025/05/RoastCity.jpeg
GEO:45.5052416;-122.6543575
X-APPLE-STRUCTURED-LOCATION;VALUE=URI;X-ADDRESS=Funhouse Lounge 2432 SE 11th Ave. Portland OR United States;X-APPLE-RADIUS=500;X-TITLE=2432 SE 11th Ave.:geo:-122.6543575,45.5052416
END:VEVENT
BEGIN:VEVENT
DTSTART;TZID=America/Los_Angeles:20271224T220000
DTEND;TZID=America/Los_Angeles:20271224T235900
DTSTAMP:20260424T014718
CREATED:20250506T231043Z
LAST-MODIFIED:20251003T190022Z
UID:10032773-1829685600-1829692740@www.laughspdx.com
SUMMARY:Roast City Comedy Battle
DESCRIPTION:Portland comedians go head to head in the roast battle of the ages while a panel of judges decide their fate.\nHosted by Cam Strong.
URL:https://www.laughspdx.com/event/roast-city-comedy-battle/2027-12-24/
LOCATION:Funhouse Lounge\, 2432 SE 11th Ave.\, Portland\, OR\, United States
CATEGORIES:Roasts,Stand Up Shows
ATTACH;FMTTYPE=image/jpeg:https://www.laughspdx.com/wp-content/uploads/2025/05/RoastCity.jpeg
GEO:45.5052416;-122.6543575
X-APPLE-STRUCTURED-LOCATION;VALUE=URI;X-ADDRESS=Funhouse Lounge 2432 SE 11th Ave. Portland OR United States;X-APPLE-RADIUS=500;X-TITLE=2432 SE 11th Ave.:geo:-122.6543575,45.5052416
END:VEVENT
BEGIN:VEVENT
DTSTART;TZID=America/Los_Angeles:20280128T220000
DTEND;TZID=America/Los_Angeles:20280128T235900
DTSTAMP:20260424T014718
CREATED:20250506T231043Z
LAST-MODIFIED:20251003T190022Z
UID:10032774-1832709600-1832716740@www.laughspdx.com
SUMMARY:Roast City Comedy Battle
DESCRIPTION:Portland comedians go head to head in the roast battle of the ages while a panel of judges decide their fate.\nHosted by Cam Strong.
URL:https://www.laughspdx.com/event/roast-city-comedy-battle/2028-01-28/
LOCATION:Funhouse Lounge\, 2432 SE 11th Ave.\, Portland\, OR\, United States
CATEGORIES:Roasts,Stand Up Shows
ATTACH;FMTTYPE=image/jpeg:https://www.laughspdx.com/wp-content/uploads/2025/05/RoastCity.jpeg
GEO:45.5052416;-122.6543575
X-APPLE-STRUCTURED-LOCATION;VALUE=URI;X-ADDRESS=Funhouse Lounge 2432 SE 11th Ave. Portland OR United States;X-APPLE-RADIUS=500;X-TITLE=2432 SE 11th Ave.:geo:-122.6543575,45.5052416
END:VEVENT
BEGIN:VEVENT
DTSTART;TZID=America/Los_Angeles:20280225T220000
DTEND;TZID=America/Los_Angeles:20280225T235900
DTSTAMP:20260424T014718
CREATED:20250506T231043Z
LAST-MODIFIED:20251003T190022Z
UID:10032775-1835128800-1835135940@www.laughspdx.com
SUMMARY:Roast City Comedy Battle
DESCRIPTION:Portland comedians go head to head in the roast battle of the ages while a panel of judges decide their fate.\nHosted by Cam Strong.
URL:https://www.laughspdx.com/event/roast-city-comedy-battle/2028-02-25/
LOCATION:Funhouse Lounge\, 2432 SE 11th Ave.\, Portland\, OR\, United States
CATEGORIES:Roasts,Stand Up Shows
ATTACH;FMTTYPE=image/jpeg:https://www.laughspdx.com/wp-content/uploads/2025/05/RoastCity.jpeg
GEO:45.5052416;-122.6543575
X-APPLE-STRUCTURED-LOCATION;VALUE=URI;X-ADDRESS=Funhouse Lounge 2432 SE 11th Ave. Portland OR United States;X-APPLE-RADIUS=500;X-TITLE=2432 SE 11th Ave.:geo:-122.6543575,45.5052416
END:VEVENT
BEGIN:VEVENT
DTSTART;TZID=America/Los_Angeles:20280324T220000
DTEND;TZID=America/Los_Angeles:20280324T235900
DTSTAMP:20260424T014718
CREATED:20250506T231043Z
LAST-MODIFIED:20251003T190022Z
UID:10032776-1837548000-1837555140@www.laughspdx.com
SUMMARY:Roast City Comedy Battle
DESCRIPTION:Portland comedians go head to head in the roast battle of the ages while a panel of judges decide their fate.\nHosted by Cam Strong.
URL:https://www.laughspdx.com/event/roast-city-comedy-battle/2028-03-24/
LOCATION:Funhouse Lounge\, 2432 SE 11th Ave.\, Portland\, OR\, United States
CATEGORIES:Roasts,Stand Up Shows
ATTACH;FMTTYPE=image/jpeg:https://www.laughspdx.com/wp-content/uploads/2025/05/RoastCity.jpeg
GEO:45.5052416;-122.6543575
X-APPLE-STRUCTURED-LOCATION;VALUE=URI;X-ADDRESS=Funhouse Lounge 2432 SE 11th Ave. Portland OR United States;X-APPLE-RADIUS=500;X-TITLE=2432 SE 11th Ave.:geo:-122.6543575,45.5052416
END:VEVENT
BEGIN:VEVENT
DTSTART;TZID=America/Los_Angeles:20280428T220000
DTEND;TZID=America/Los_Angeles:20280428T235900
DTSTAMP:20260424T014718
CREATED:20250506T231043Z
LAST-MODIFIED:20251003T190022Z
UID:10032777-1840572000-1840579140@www.laughspdx.com
SUMMARY:Roast City Comedy Battle
DESCRIPTION:Portland comedians go head to head in the roast battle of the ages while a panel of judges decide their fate.\nHosted by Cam Strong.
URL:https://www.laughspdx.com/event/roast-city-comedy-battle/2028-04-28/
LOCATION:Funhouse Lounge\, 2432 SE 11th Ave.\, Portland\, OR\, United States
CATEGORIES:Roasts,Stand Up Shows
ATTACH;FMTTYPE=image/jpeg:https://www.laughspdx.com/wp-content/uploads/2025/05/RoastCity.jpeg
GEO:45.5052416;-122.6543575
X-APPLE-STRUCTURED-LOCATION;VALUE=URI;X-ADDRESS=Funhouse Lounge 2432 SE 11th Ave. Portland OR United States;X-APPLE-RADIUS=500;X-TITLE=2432 SE 11th Ave.:geo:-122.6543575,45.5052416
END:VEVENT
BEGIN:VEVENT
DTSTART;TZID=America/Los_Angeles:20280526T220000
DTEND;TZID=America/Los_Angeles:20280526T235900
DTSTAMP:20260424T014718
CREATED:20250506T231043Z
LAST-MODIFIED:20251003T190022Z
UID:10032778-1842991200-1842998340@www.laughspdx.com
SUMMARY:Roast City Comedy Battle
DESCRIPTION:Portland comedians go head to head in the roast battle of the ages while a panel of judges decide their fate.\nHosted by Cam Strong.
URL:https://www.laughspdx.com/event/roast-city-comedy-battle/2028-05-26/
LOCATION:Funhouse Lounge\, 2432 SE 11th Ave.\, Portland\, OR\, United States
CATEGORIES:Roasts,Stand Up Shows
ATTACH;FMTTYPE=image/jpeg:https://www.laughspdx.com/wp-content/uploads/2025/05/RoastCity.jpeg
GEO:45.5052416;-122.6543575
X-APPLE-STRUCTURED-LOCATION;VALUE=URI;X-ADDRESS=Funhouse Lounge 2432 SE 11th Ave. Portland OR United States;X-APPLE-RADIUS=500;X-TITLE=2432 SE 11th Ave.:geo:-122.6543575,45.5052416
END:VEVENT
BEGIN:VEVENT
DTSTART;TZID=America/Los_Angeles:20280623T220000
DTEND;TZID=America/Los_Angeles:20280623T235900
DTSTAMP:20260424T014718
CREATED:20250506T231043Z
LAST-MODIFIED:20251003T190022Z
UID:10032779-1845410400-1845417540@www.laughspdx.com
SUMMARY:Roast City Comedy Battle
DESCRIPTION:Portland comedians go head to head in the roast battle of the ages while a panel of judges decide their fate.\nHosted by Cam Strong.
URL:https://www.laughspdx.com/event/roast-city-comedy-battle/2028-06-23/
LOCATION:Funhouse Lounge\, 2432 SE 11th Ave.\, Portland\, OR\, United States
CATEGORIES:Roasts,Stand Up Shows
ATTACH;FMTTYPE=image/jpeg:https://www.laughspdx.com/wp-content/uploads/2025/05/RoastCity.jpeg
GEO:45.5052416;-122.6543575
X-APPLE-STRUCTURED-LOCATION;VALUE=URI;X-ADDRESS=Funhouse Lounge 2432 SE 11th Ave. Portland OR United States;X-APPLE-RADIUS=500;X-TITLE=2432 SE 11th Ave.:geo:-122.6543575,45.5052416
END:VEVENT
BEGIN:VEVENT
DTSTART;TZID=America/Los_Angeles:20280728T220000
DTEND;TZID=America/Los_Angeles:20280728T235900
DTSTAMP:20260424T014718
CREATED:20250506T231043Z
LAST-MODIFIED:20251003T190022Z
UID:10032780-1848434400-1848441540@www.laughspdx.com
SUMMARY:Roast City Comedy Battle
DESCRIPTION:Portland comedians go head to head in the roast battle of the ages while a panel of judges decide their fate.\nHosted by Cam Strong.
URL:https://www.laughspdx.com/event/roast-city-comedy-battle/2028-07-28/
LOCATION:Funhouse Lounge\, 2432 SE 11th Ave.\, Portland\, OR\, United States
CATEGORIES:Roasts,Stand Up Shows
ATTACH;FMTTYPE=image/jpeg:https://www.laughspdx.com/wp-content/uploads/2025/05/RoastCity.jpeg
GEO:45.5052416;-122.6543575
X-APPLE-STRUCTURED-LOCATION;VALUE=URI;X-ADDRESS=Funhouse Lounge 2432 SE 11th Ave. Portland OR United States;X-APPLE-RADIUS=500;X-TITLE=2432 SE 11th Ave.:geo:-122.6543575,45.5052416
END:VEVENT
BEGIN:VEVENT
DTSTART;TZID=America/Los_Angeles:20280825T220000
DTEND;TZID=America/Los_Angeles:20280825T235900
DTSTAMP:20260424T014718
CREATED:20250506T231043Z
LAST-MODIFIED:20251003T190022Z
UID:10032781-1850853600-1850860740@www.laughspdx.com
SUMMARY:Roast City Comedy Battle
DESCRIPTION:Portland comedians go head to head in the roast battle of the ages while a panel of judges decide their fate.\nHosted by Cam Strong.
URL:https://www.laughspdx.com/event/roast-city-comedy-battle/2028-08-25/
LOCATION:Funhouse Lounge\, 2432 SE 11th Ave.\, Portland\, OR\, United States
CATEGORIES:Roasts,Stand Up Shows
ATTACH;FMTTYPE=image/jpeg:https://www.laughspdx.com/wp-content/uploads/2025/05/RoastCity.jpeg
GEO:45.5052416;-122.6543575
X-APPLE-STRUCTURED-LOCATION;VALUE=URI;X-ADDRESS=Funhouse Lounge 2432 SE 11th Ave. Portland OR United States;X-APPLE-RADIUS=500;X-TITLE=2432 SE 11th Ave.:geo:-122.6543575,45.5052416
END:VEVENT
BEGIN:VEVENT
DTSTART;TZID=America/Los_Angeles:20280922T220000
DTEND;TZID=America/Los_Angeles:20280922T235900
DTSTAMP:20260424T014718
CREATED:20250506T231043Z
LAST-MODIFIED:20251003T190022Z
UID:10032782-1853272800-1853279940@www.laughspdx.com
SUMMARY:Roast City Comedy Battle
DESCRIPTION:Portland comedians go head to head in the roast battle of the ages while a panel of judges decide their fate.\nHosted by Cam Strong.
URL:https://www.laughspdx.com/event/roast-city-comedy-battle/2028-09-22/
LOCATION:Funhouse Lounge\, 2432 SE 11th Ave.\, Portland\, OR\, United States
CATEGORIES:Roasts,Stand Up Shows
ATTACH;FMTTYPE=image/jpeg:https://www.laughspdx.com/wp-content/uploads/2025/05/RoastCity.jpeg
GEO:45.5052416;-122.6543575
X-APPLE-STRUCTURED-LOCATION;VALUE=URI;X-ADDRESS=Funhouse Lounge 2432 SE 11th Ave. Portland OR United States;X-APPLE-RADIUS=500;X-TITLE=2432 SE 11th Ave.:geo:-122.6543575,45.5052416
END:VEVENT
END:VCALENDAR