BEGIN:VCALENDAR
VERSION:2.0
PRODID:-//Laughs PDX - ECPv6.15.12.2//NONSGML v1.0//EN
CALSCALE:GREGORIAN
METHOD:PUBLISH
X-WR-CALNAME:Laughs PDX
X-ORIGINAL-URL:https://www.laughspdx.com
X-WR-CALDESC:Events for Laughs PDX
REFRESH-INTERVAL;VALUE=DURATION:PT1H
X-Robots-Tag:noindex
X-PUBLISHED-TTL:PT1H
BEGIN:VTIMEZONE
TZID:America/Los_Angeles
BEGIN:DAYLIGHT
TZOFFSETFROM:-0800
TZOFFSETTO:-0700
TZNAME:PDT
DTSTART:20250309T100000
END:DAYLIGHT
BEGIN:STANDARD
TZOFFSETFROM:-0700
TZOFFSETTO:-0800
TZNAME:PST
DTSTART:20251102T090000
END:STANDARD
BEGIN:DAYLIGHT
TZOFFSETFROM:-0800
TZOFFSETTO:-0700
TZNAME:PDT
DTSTART:20260308T100000
END:DAYLIGHT
BEGIN:STANDARD
TZOFFSETFROM:-0700
TZOFFSETTO:-0800
TZNAME:PST
DTSTART:20261101T090000
END:STANDARD
BEGIN:DAYLIGHT
TZOFFSETFROM:-0800
TZOFFSETTO:-0700
TZNAME:PDT
DTSTART:20270314T100000
END:DAYLIGHT
BEGIN:STANDARD
TZOFFSETFROM:-0700
TZOFFSETTO:-0800
TZNAME:PST
DTSTART:20271107T090000
END:STANDARD
END:VTIMEZONE
BEGIN:VEVENT
DTSTART;TZID=America/Los_Angeles:20260619T233000
DTEND;TZID=America/Los_Angeles:20260620T013000
DTSTAMP:20260424T025913
CREATED:20250422T031127Z
LAST-MODIFIED:20251008T202157Z
UID:10010992-1781911800-1781919000@www.laughspdx.com
SUMMARY:Funhouse Lounge Mic
DESCRIPTION:In-person sign ups at 11:30. Mic starts at midnight. Hosted by Matt Franco.
URL:https://www.laughspdx.com/event/funhouse-lounge-mic/2026-06-19/
LOCATION:Funhouse Lounge\, 2432 SE 11th Ave.\, Portland\, OR\, United States
CATEGORIES:Comedy Open Mics
ATTACH;FMTTYPE=image/jpeg:https://www.laughspdx.com/wp-content/uploads/2025/04/241878147_10227851271892762_2858230139698681984_n-2.jpg
GEO:45.5052416;-122.6543575
X-APPLE-STRUCTURED-LOCATION;VALUE=URI;X-ADDRESS=Funhouse Lounge 2432 SE 11th Ave. Portland OR United States;X-APPLE-RADIUS=500;X-TITLE=2432 SE 11th Ave.:geo:-122.6543575,45.5052416
END:VEVENT
END:VCALENDAR